BEGIN:VCALENDAR
VERSION:2.0
PRODID:-//Micromine - ECPv5.8.1//NONSGML v1.0//EN
CALSCALE:GREGORIAN
METHOD:PUBLISH
X-WR-CALNAME:Micromine
X-ORIGINAL-URL:https://www.micromine.kz
X-WR-CALDESC:Events for Micromine
BEGIN:VTIMEZONE
TZID:Asia/Shanghai
BEGIN:STANDARD
TZOFFSETFROM:+0800
TZOFFSETTO:+0800
TZNAME:CST
DTSTART:20170101T000000
END:STANDARD
END:VTIMEZONE
BEGIN:VEVENT
DTSTART;VALUE=DATE:20170413
DTEND;VALUE=DATE:20170414
DTSTAMP:20260423T093336
CREATED:20160113T003138Z
LAST-MODIFIED:20161110T082910Z
UID:4087-1492041600-1492127999@www.micromine.kz
SUMMARY:Geobank Support Morning - Perth
DESCRIPTION:The support morning is available to all current Annual Licence clients and is free of charge. The sessions are held at MICROMINE HQ in Nedlands or virtually / online – Prior booking is essential. \nThe session will be hosted by Derek Vincent\, Geobank Operations Manager: “This is an informal question and answer session and you are encouraged to bring your own data\, laptop and plenty of questions.” \n  \n[ult_button buttonlink=”mailto:marketing@micromine.com?subject=Geobank Support Morning Perth – 13th April 2017″ buttonsize=”large” color=”#ffffff” hovercolor=”#ffffff” backgroundcolor=”#0089bd” hoverbgcolor=”#46c7fb” icon=”” rel=””]Book This Course[/ult_button] \n  \n 
URL:https://www.micromine.kz/event/support-morning-april-2017/
LOCATION:Perth – MICROMINE Head Office\, Level 2\, 174 Hampden Road\, Nedlands\, WA\, 6009\, Australia
CATEGORIES:Geobank Training
ATTACH;FMTTYPE=image/jpeg:https://www.micromine.kz/wp-content/uploads/2016/01/GB-training-1.jpg
END:VEVENT
END:VCALENDAR