BEGIN:VCALENDAR
VERSION:2.0
PRODID:-//Micromine - ECPv5.8.1//NONSGML v1.0//EN
CALSCALE:GREGORIAN
METHOD:PUBLISH
X-WR-CALNAME:Micromine
X-ORIGINAL-URL:https://www.micromine.kz
X-WR-CALDESC:Events for Micromine
BEGIN:VTIMEZONE
TZID:UTC
BEGIN:STANDARD
TZOFFSETFROM:+0000
TZOFFSETTO:+0000
TZNAME:UTC
DTSTART:20160101T000000
END:STANDARD
END:VTIMEZONE
BEGIN:VEVENT
DTSTART;VALUE=DATE:20161115
DTEND;VALUE=DATE:20161117
DTSTAMP:20260426T002828
CREATED:20160113T202837Z
LAST-MODIFIED:20160311T065739Z
UID:1456-1479168000-1479340799@www.micromine.kz
SUMMARY:Subsidised Introduction to Micromine UK
DESCRIPTION:Want to gain practical experience and boost your employ-ability? \nBook your place on our subsidised Introduction to Micromine course\nOur two-day course\, specially designed for students and geologists who are presently unemployed\, is formally accredited by The Geological Society. \nThis is an excellent opportunity to broaden your skills and knowledge of industry leading technology. \n More Information \n  \n[ult_button buttonlink=”http://www.micromine.com/wp-content/uploads/2016/01/MM_CourseAppForm_A4_2016_UK_Email_Fill.pdf” buttonsize=”large” color=”#ffffff” hovercolor=”#ffffff” backgroundcolor=”#387c2b” hoverbgcolor=”#98bd05″ icon=”” rel=”prettyPhoto”]Book This Course[/ult_button] \n 
URL:https://www.micromine.kz/event/subsidised-introduction-micromine-uk-151116/
LOCATION:London\, London\, United Kingdom
CATEGORIES:Micromine Training
ATTACH;FMTTYPE=image/jpeg:https://www.micromine.kz/wp-content/uploads/2016/01/subsidised-micromine-training.jpg
END:VEVENT
END:VCALENDAR