BEGIN:VCALENDAR
VERSION:2.0
PRODID:-//Micromine - ECPv5.8.1//NONSGML v1.0//EN
CALSCALE:GREGORIAN
METHOD:PUBLISH
X-WR-CALNAME:Micromine
X-ORIGINAL-URL:https://www.micromine.kz
X-WR-CALDESC:Events for Micromine
BEGIN:VTIMEZONE
TZID:UTC
BEGIN:STANDARD
TZOFFSETFROM:+0000
TZOFFSETTO:+0000
TZNAME:UTC
DTSTART:20160101T000000
END:STANDARD
END:VTIMEZONE
BEGIN:VEVENT
DTSTART;VALUE=DATE:20161117
DTEND;VALUE=DATE:20161119
DTSTAMP:20260425T225031
CREATED:20160113T202837Z
LAST-MODIFIED:20160311T065707Z
UID:1463-1479340800-1479513599@www.micromine.kz
SUMMARY:Resource Estimation
DESCRIPTION:Book your place on our Resource Estimation course and learn how to generate robust mineral resource estimates in Micromine.  \nBook your place on our Resource Estimation in Micromine course \nThe two-day Resource Estimation in Micromine course will provide theoretical and practical overview of mineral resource estimation tools in Micromine. \nFrom exploratory data analysis to grade interpretation\, resource classification and block model reporting\, participants will gain an overview of the real world application of resource estimation techniques. \n More Information \n  \n[ult_button buttonlink=”http://www.micromine.com/wp-content/uploads/2016/01/MM_CourseAppForm_A4_2016_UK_Email_Fill.pdf” buttonsize=”large” color=”#ffffff” hovercolor=”#ffffff” backgroundcolor=”#387c2b” hoverbgcolor=”#98bd05″ icon=”” rel=”prettyPhoto”]Book This Course[/ult_button] \n 
URL:https://www.micromine.kz/event/resource-estimation-171116/
LOCATION:London\, London\, United Kingdom
CATEGORIES:Micromine Training
ATTACH;FMTTYPE=image/jpeg:https://www.micromine.kz/wp-content/uploads/2016/01/resource-estimation-training.jpg
END:VEVENT
END:VCALENDAR