BEGIN:VCALENDAR
VERSION:2.0
PRODID:-//Micromine - ECPv5.8.1//NONSGML v1.0//EN
CALSCALE:GREGORIAN
METHOD:PUBLISH
X-WR-CALNAME:Micromine
X-ORIGINAL-URL:https://www.micromine.kz
X-WR-CALDESC:Events for Micromine
BEGIN:VTIMEZONE
TZID:Asia/Jakarta
BEGIN:STANDARD
TZOFFSETFROM:+0700
TZOFFSETTO:+0700
TZNAME:WIB
DTSTART:20210101T000000
END:STANDARD
END:VTIMEZONE
BEGIN:VEVENT
DTSTART;TZID=Asia/Jakarta:20210609T090000
DTEND;TZID=Asia/Jakarta:20210610T170000
DTSTAMP:20260424T185121
CREATED:20200730T084115Z
LAST-MODIFIED:20210412T082901Z
UID:18794-1623229200-1623344400@www.micromine.kz
SUMMARY:Pit Design - Online - Indonesia
DESCRIPTION:We’ve opened up Micromine Online Training so you can learn from wherever you are in the world. \nThis one day Pit Design training is designed to teach you how to design open pits\, as well as dumps and stockpiles. You will also learn how to create haul roads\, slot ramps\, 3D surfaces of the pit\, generate grades and tonnages reports\, and create blasthole pattern design using Micromine’s Mining module. \n  \nWho can attend the free training course?\n\nYou must have an active Micromine licence to attend the course. This can be a subscription bundle or a perpetual licence that is under a current Annual Licence contract.\nThis course will be conducted in the Bahasa Indonesia language. Fluency in the language will be necessary to follow the trainers instructions.\n\n Micromine Pit Design Course Outline \n  \nCourse Times (+7 GMT Jakarta Time)\nDay 1 \n09:00 WIB – 17:00 WIB – Pit Design\n04:00 GMT – 08:00 GMT – Free time to work on course material\n08:00 GMT – 09:00 GMT – Questions and Answer Session \nDay 2 \n09:00 WIB – 17:00 WIB – Pit Design\n04:00 GMT – 08:00 GMT – Free time to work on course material\n08:00 GMT – 09:00 GMT – Questions and Answer Session \n  \nBook this course\n\nPlease note: To be eligible to attend this course you must have a current Micromine licence and speak Bahasa Indonesian. \n 
URL:https://www.micromine.kz/event/pit-design-online-indo-june-09-2021/
LOCATION:MICROMINE Indonesia\, Pondok Indah Office Tower 1 4th Floor suite 406 Jln. Sultan Iskandar Muda V TA\, Pondok Pinang\, Jakarta\, Kebayoran Lama\, 12310\, Indonesia
CATEGORIES:Micromine Training
ATTACH;FMTTYPE=image/jpeg:https://www.micromine.kz/wp-content/uploads/2018/01/White-background-smallweb.jpg
END:VEVENT
END:VCALENDAR