BEGIN:VCALENDAR
VERSION:2.0
PRODID:-//Micromine - ECPv5.8.1//NONSGML v1.0//EN
CALSCALE:GREGORIAN
METHOD:PUBLISH
X-WR-CALNAME:Micromine
X-ORIGINAL-URL:https://www.micromine.kz
X-WR-CALDESC:Events for Micromine
BEGIN:VTIMEZONE
TZID:UTC
BEGIN:STANDARD
TZOFFSETFROM:+0000
TZOFFSETTO:+0000
TZNAME:UTC
DTSTART:20160101T000000
END:STANDARD
END:VTIMEZONE
BEGIN:VEVENT
DTSTART;VALUE=DATE:20161221
DTEND;VALUE=DATE:20161222
DTSTAMP:20260425T055831
CREATED:20160113T202024Z
LAST-MODIFIED:20160816T013935Z
UID:2871-1482278400-1482364799@www.micromine.kz
SUMMARY:Pit Design - Perth
DESCRIPTION:This one day Pit Design training is designed to teach you how to design open pits\, as well as dumps and stockpiles. You will also learn how to create haul roads\, slot ramps\, 3D surfaces of the pit\, generate grades and tonnages reports\, and create blasthole pattern design using Micromine’s Mining module. \n Micromine Pit Design Course Outline \n  \n[ult_button buttonlink=”mailto:mailto:marketing@micromine.com?subject=Micromine Training Perth – 21st December 2016 – Pit Design” buttonsize=”large” color=”#ffffff” hovercolor=”#ffffff” backgroundcolor=”#387c2b” hoverbgcolor=”#98bd05″ icon=”” rel=””]Book This Course[/ult_button] \n  \n 
URL:https://www.micromine.kz/event/pit-design-3-2/
LOCATION:Perth – MICROMINE Head Office\, Level 2\, 174 Hampden Road\, Nedlands\, WA\, 6009\, Australia
CATEGORIES:Micromine Training
ATTACH;FMTTYPE=image/png:https://www.micromine.kz/wp-content/uploads/2016/01/pit-design-training.jpg
END:VEVENT
END:VCALENDAR