BEGIN:VCALENDAR
VERSION:2.0
PRODID:-//Micromine - ECPv5.8.1//NONSGML v1.0//EN
CALSCALE:GREGORIAN
METHOD:PUBLISH
X-WR-CALNAME:Micromine
X-ORIGINAL-URL:https://www.micromine.kz
X-WR-CALDESC:Events for Micromine
BEGIN:VTIMEZONE
TZID:Australia/Perth
BEGIN:STANDARD
TZOFFSETFROM:+0800
TZOFFSETTO:+0800
TZNAME:AWST
DTSTART:20160101T000000
END:STANDARD
END:VTIMEZONE
BEGIN:VEVENT
DTSTART;VALUE=DATE:20161019
DTEND;VALUE=DATE:20161022
DTSTAMP:20260426T044706
CREATED:20161010T065751Z
LAST-MODIFIED:20161017T062645Z
UID:3651-1476835200-1477094399@www.micromine.kz
SUMMARY:Ozmine 2016
DESCRIPTION:MICROMINE will be attending this years Ozmine 2016 in Jakarta\, Indonesia from October 19th to 21st at booth F12. \nThe event will be held at the Jakarta International Expo building in Kemayoran and is hosted by Mining & Engineering Indonesia. \nThe team will showcase our entire suite of solutions including a preview to Geobank 2017\, the latest versions of our leading data management solution\, along with Micromine 2016 which was released in May of this year and Pitram\, the world’s leading underground fleet management and mine control solution. \nMICROMINE’s Product Specialists will deliver software demonstrations at the MICROMINE booth throughout the event\, and will be available to discuss how our applications\, which cover the entire mining process\, can help delegates’ operations to meet business objectives. \nClick on the button below to contact us and arrange a meeting with a MICROMINE representative at Ozmine 2016. \n  \n[ult_button buttonlink=”http://www.micromine.com/product-enquiry/” buttonsize=”large” color=”#ffffff” hovercolor=”#ffffff” backgroundcolor=”#5f6062″ hoverbgcolor=”#d06f1a” icon=”” rel=””]Enquiry[/ult_button] \n  \n\nFind out more about Ozmine on Mining and Engineering Indonesia’s website
URL:https://www.micromine.kz/event/ozmine-2016/
LOCATION:Jakarta International Expo\, Gedung Pusat Niaga\, Arena JIEXPO Kemayoran\, Jakarta\, 10620\, Indonesia
CATEGORIES:Conferences & Expos
ATTACH;FMTTYPE=image/png:https://www.micromine.kz/wp-content/uploads/2016/10/ozmine-logo.png
END:VEVENT
END:VCALENDAR