BEGIN:VCALENDAR
VERSION:2.0
PRODID:-//Micromine - ECPv5.8.1//NONSGML v1.0//EN
CALSCALE:GREGORIAN
METHOD:PUBLISH
X-WR-CALNAME:Micromine
X-ORIGINAL-URL:https://www.micromine.kz
X-WR-CALDESC:Events for Micromine
BEGIN:VTIMEZONE
TZID:Australia/Perth
BEGIN:STANDARD
TZOFFSETFROM:+0800
TZOFFSETTO:+0800
TZNAME:AWST
DTSTART:20170101T000000
END:STANDARD
END:VTIMEZONE
BEGIN:VEVENT
DTSTART;VALUE=DATE:20170425
DTEND;VALUE=DATE:20170428
DTSTAMP:20260423T044649
CREATED:20170214T040351Z
LAST-MODIFIED:20170421T134059Z
UID:4705-1493078400-1493337599@www.micromine.kz
SUMMARY:Mining World Russia 2017 - Moscow - Booth #A405
DESCRIPTION:MICROMINE will be exhibiting at this years Mining World Russia 2017 in Moscow\, Russia from April 25th – 27th. \nThe team will showcase our entire suite of solutions at booth #A405 in the Crocus Expo\, including our leading data management solution Geobank 2017 which was released in January of this year\, along with Micromine 2016 and Pitram\, the world’s leading underground fleet management and mine control solution. \nMICROMINE’s Product Specialists will deliver software demonstrations at the MICROMINE booth throughout the event\, and will be available to discuss how our applications\, which cover the entire mining process\, can help delegates’ operations to meet business objectives. \nClick on the button below to contact us and arrange a meeting with a MICROMINE representative at booth #A405. \n  \n[ult_button buttonlink=”http://www.micromine.com/product-enquiry/” buttonsize=”large” color=”#ffffff” hovercolor=”#ffffff” backgroundcolor=”#5f6062″ hoverbgcolor=”#d06f1a” icon=”” rel=””]Enquiry[/ult_button] \n  \n\nRead the MICROMINE press release regarding our attendance at Mining World Russia 2017\nVisit the MICROMINE Russia website www.micromine.ru\nVisit the Mining World Russia website for more information about the event
URL:https://www.micromine.kz/event/mining-world-russia-2017/
LOCATION:Crocus Expo IEC\, 65 - 66 km Moscow City Rung (MKAD)\, Moscow\, Russian Federation
CATEGORIES:Conferences & Expos
ATTACH;FMTTYPE=image/png:https://www.micromine.kz/wp-content/uploads/2017/02/exhibition-logotype.png
END:VEVENT
END:VCALENDAR