BEGIN:VCALENDAR
VERSION:2.0
PRODID:-//Micromine - ECPv5.8.1//NONSGML v1.0//EN
CALSCALE:GREGORIAN
METHOD:PUBLISH
X-WR-CALNAME:Micromine
X-ORIGINAL-URL:https://www.micromine.kz
X-WR-CALDESC:Events for Micromine
BEGIN:VTIMEZONE
TZID:Australia/Perth
BEGIN:STANDARD
TZOFFSETFROM:+0800
TZOFFSETTO:+0800
TZNAME:AWST
DTSTART:20170101T000000
END:STANDARD
END:VTIMEZONE
BEGIN:VEVENT
DTSTART;VALUE=DATE:20170829
DTEND;VALUE=DATE:20170831
DTSTAMP:20260420T074820
CREATED:20170510T043417Z
LAST-MODIFIED:20170703T062751Z
UID:5845-1503964800-1504137599@www.micromine.kz
SUMMARY:Mining 2017 Resources Convention Brisbane
DESCRIPTION:MICROMINE will be exhibiting at the Mining 2017 Resources Convention Brisbane. Booth #26. \nThe Mining Resources Convention has been labelled as Vertical Events’ premier flagship event! Now incorporating the Australian Copper Conference\, and running on 29 & 30 August\, the Mining 2017 Resources Convention will be held at the Brisbane Hilton\, Queensland. \nContact us using the link below to organise a demonstration and meeting at our both: \n[ult_button buttonlink=”https://www.micromine.kz/contact/” buttonsize=”large” color=”#ffffff” hovercolor=”#ffffff” backgroundcolor=”#5f6062″ hoverbgcolor=”#b06e0e” icon=”” rel=””]Contact Us[/ult_button] \n  \nUseful Links:\n\nMining 2017 Website\nProgram of events
URL:https://www.micromine.kz/event/mining-2017-resources-brisbane/
LOCATION:Hilton Brisbane\, 190 Elizabeth Street\, Brisbane\, QLD\, 4000\, Australia
CATEGORIES:Conferences & Expos
ATTACH;FMTTYPE=image/jpeg:https://www.micromine.kz/wp-content/uploads/2017/05/M2K17-Logo-Horiz.jpg
END:VEVENT
END:VCALENDAR