BEGIN:VCALENDAR
VERSION:2.0
PRODID:-//Micromine - ECPv5.8.1//NONSGML v1.0//EN
CALSCALE:GREGORIAN
METHOD:PUBLISH
X-WR-CALNAME:Micromine
X-ORIGINAL-URL:https://www.micromine.kz
X-WR-CALDESC:Events for Micromine
BEGIN:VTIMEZONE
TZID:Australia/Perth
BEGIN:STANDARD
TZOFFSETFROM:+0800
TZOFFSETTO:+0800
TZNAME:AWST
DTSTART:20170101T000000
END:STANDARD
END:VTIMEZONE
BEGIN:VEVENT
DTSTART;VALUE=DATE:20170418
DTEND;VALUE=DATE:20170421
DTSTAMP:20260423T080056
CREATED:20170308T084646Z
LAST-MODIFIED:20170418T013157Z
UID:4894-1492473600-1492732799@www.micromine.kz
SUMMARY:MINEX 2017 and the First Central-Asian Micromine Users Conference
DESCRIPTION:MICROMINE Central Asia will be exhibiting at booth #12 during the 8th Central Asian Mining and Exploration Forum taking place 18th – 20th April 2017 in the Astana\, Radisson hotel. The MICROMINE Central Asia team will be demonstrating our entire suite of software solutions. \nMICROMINE will also be hosting the First Central-Asian Micromine User Conference on the last day of the forum. The User Conference will have expert speakers from leading mining companies and higher education institutes in the region. Attendees will learn about the latest trends of implementing GGIS to solve production tasks and will be able to share their opinions on the topic and discuss the current challenges in the industry. Participation in the conference is free of charge. \nNote: The User Conference will be conducted in Russian. \nThe Micromine User Conference is now fully booked. Click on the link below to contact our Kazakh office about the event. \n  \n[ult_button buttonlink=”http://global.micromine.com/kk/%D0%B1%D0%B0%D0%B9%D0%BB%D0%B0%D0%BD%D1%8B%D1%81/” target=”_blank” buttonsize=”large” color=”#ffffff” hovercolor=”#ffffff” backgroundcolor=”#387c2b” hoverbgcolor=”#98bd05″ icon=”” rel=””]Contact Us[/ult_button] \n 
URL:https://www.micromine.kz/event/minex-2017-first-central-asian-micromine-users-conference/
CATEGORIES:Conferences & Expos
ATTACH;FMTTYPE=image/png:https://www.micromine.kz/wp-content/uploads/2017/03/minex-ca-2017.png
END:VEVENT
END:VCALENDAR