BEGIN:VCALENDAR
VERSION:2.0
PRODID:-//Micromine - ECPv5.8.1//NONSGML v1.0//EN
CALSCALE:GREGORIAN
METHOD:PUBLISH
X-WR-CALNAME:Micromine
X-ORIGINAL-URL:https://www.micromine.kz
X-WR-CALDESC:Events for Micromine
BEGIN:VTIMEZONE
TZID:UTC
BEGIN:STANDARD
TZOFFSETFROM:+0000
TZOFFSETTO:+0000
TZNAME:UTC
DTSTART:20160101T000000
END:STANDARD
END:VTIMEZONE
BEGIN:VEVENT
DTSTART;VALUE=DATE:20161012
DTEND;VALUE=DATE:20161013
DTSTAMP:20260426T093856
CREATED:20160113T003138Z
LAST-MODIFIED:20161004T065648Z
UID:1413-1476230400-1476316799@www.micromine.kz
SUMMARY:Introduction to Micromine
DESCRIPTION:If you are new to Micromine\, or have not used it for a while\, our Introductory course will get you started. Covering the basics of Micromine\, this course systematically introduces all the key features of the software as you work through a typical exploration project. \n Introduction to Micromine Course Outline \n  \n[ult_button buttonlink=”mailto:marketing@micromine.com?subject=Micromine Training Johannesburg – 12th October 2016 – Introduction to Micromine” buttonsize=”large” color=”#ffffff” hovercolor=”#ffffff” backgroundcolor=”#387c2b” hoverbgcolor=”#98bd05″ icon=”” rel=””]Book This Course[/ult_button] \n  \n 
URL:https://www.micromine.kz/event/introduction-to-micromine-130916/
LOCATION:Johannesburg\, Ground Floor\, Fulham House\, Hampton Park\, 20 Georgian Crescent East\, Bryanston\, South Africa
CATEGORIES:Micromine Training
ATTACH;FMTTYPE=image/jpeg:https://www.micromine.kz/wp-content/uploads/2016/01/subsidised-micromine-training.jpg
END:VEVENT
END:VCALENDAR