BEGIN:VCALENDAR
VERSION:2.0
PRODID:-//Micromine - ECPv5.8.1//NONSGML v1.0//EN
CALSCALE:GREGORIAN
METHOD:PUBLISH
X-WR-CALNAME:Micromine
X-ORIGINAL-URL:https://www.micromine.kz
X-WR-CALDESC:Events for Micromine
BEGIN:VTIMEZONE
TZID:Australia/Perth
BEGIN:STANDARD
TZOFFSETFROM:+0800
TZOFFSETTO:+0800
TZNAME:AWST
DTSTART:20180101T000000
END:STANDARD
END:VTIMEZONE
BEGIN:VEVENT
DTSTART;VALUE=DATE:20181113
DTEND;VALUE=DATE:20181115
DTSTAMP:20260423T170257
CREATED:20180130T084358Z
LAST-MODIFIED:20180517T065955Z
UID:7765-1542067200-1542239999@www.micromine.kz
SUMMARY:Introduction to Micromine - Perth
DESCRIPTION:If you are new to Micromine\, or have not used it for a while\, our two day Introductory course will get you started. Covering the basics of Micromine\, this course systematically introduces all the key features of the software as you work through a typical exploration project. \n Introduction to Micromine Course Outline \n  \nBook this Course \n 
URL:https://www.micromine.kz/event/introduction-micromine-perth-november-2018/
LOCATION:Perth – MICROMINE Head Office\, Level 2\, 174 Hampden Road\, Nedlands\, WA\, 6009\, Australia
CATEGORIES:Micromine Training
ATTACH;FMTTYPE=image/jpeg:https://www.micromine.kz/wp-content/uploads/2016/01/subsidised-micromine-training.jpg
END:VEVENT
END:VCALENDAR