BEGIN:VCALENDAR
VERSION:2.0
PRODID:-//Micromine - ECPv5.8.1//NONSGML v1.0//EN
CALSCALE:GREGORIAN
METHOD:PUBLISH
X-WR-CALNAME:Micromine
X-ORIGINAL-URL:https://www.micromine.kz
X-WR-CALDESC:Events for Micromine
BEGIN:VTIMEZONE
TZID:Europe/Paris
BEGIN:DAYLIGHT
TZOFFSETFROM:+0100
TZOFFSETTO:+0200
TZNAME:CEST
DTSTART:20160327T010000
END:DAYLIGHT
BEGIN:STANDARD
TZOFFSETFROM:+0200
TZOFFSETTO:+0100
TZNAME:CET
DTSTART:20161030T010000
END:STANDARD
END:VTIMEZONE
BEGIN:VEVENT
DTSTART;VALUE=DATE:20161219
DTEND;VALUE=DATE:20161223
DTSTAMP:20260425T090521
CREATED:20160113T003138Z
LAST-MODIFIED:20161201T031710Z
UID:1941-1482105600-1482451199@www.micromine.kz
SUMMARY:Introducción a Micromine Software
DESCRIPTION:This course is held in conjunction with the Madrid Geological Society and will be conducted in Spanish. \nMicromine es un programa informático utilizado en la industria minera mundial durante las distintas fases de exploración geológica; diseño geológico; estimación de recursos minerales; diseño de minas a cielo abierto; diseño de minas subterráneas; optimización de minas a cielo abierto y planificación del trabajo de extracción. \nLugar de impartición: Colegio Oficial de Geólogos\, C/Raquel Meller\,7 Local – Madrid \nHorario: De 9\,00 a 18\,00h \nDirigido a: Geólogos\, ingenieros geólogos e ingenieros de minas. \n Más Información \n  \n[ult_button buttonlink=”IV Curso de Estimacion de Recursos Minerales” buttonsize=”large” color=”#ffffff” hovercolor=”#ffffff” backgroundcolor=”#387c2b” hoverbgcolor=”#98bd05″ icon=”” rel=””]Book This Course[/ult_button] \n 
URL:https://www.micromine.kz/event/introduccion-a-micromine-software-november-2016/
LOCATION:Madrid\, C/ Raquel Meller\, 7\,\, Madrid\, Madrid\, 28027\, Spain
CATEGORIES:Micromine Training
ATTACH;FMTTYPE=image/png:https://www.micromine.kz/wp-content/uploads/2016/01/spanish-Micromine-intro-course-image-web.png
END:VEVENT
END:VCALENDAR