BEGIN:VCALENDAR
VERSION:2.0
PRODID:-//Micromine - ECPv5.8.1//NONSGML v1.0//EN
CALSCALE:GREGORIAN
METHOD:PUBLISH
X-WR-CALNAME:Micromine
X-ORIGINAL-URL:https://www.micromine.kz
X-WR-CALDESC:Events for Micromine
BEGIN:VTIMEZONE
TZID:Atlantic/Reykjavik
BEGIN:STANDARD
TZOFFSETFROM:+0000
TZOFFSETTO:+0000
TZNAME:GMT
DTSTART:20210101T000000
END:STANDARD
END:VTIMEZONE
BEGIN:VEVENT
DTSTART;TZID=Atlantic/Reykjavik:20210421T020000
DTEND;TZID=Atlantic/Reykjavik:20210421T100000
DTSTAMP:20260425T201429
CREATED:20210129T055956Z
LAST-MODIFIED:20210129T055956Z
UID:18279-1618970400-1618999200@www.micromine.kz
SUMMARY:Implicit Modelling - Online         Indonesia
DESCRIPTION:We’ve opened up Micromine Online Training so you can learn from wherever you are in the world. \nMicromine’s one day Implicit Modelling course provides users with the skills required to derive the maximum benefit from their Micromine solution. The skills acquired in this course will enable trainees to use all of the functions that are relevant to their needs\, maximising their individual productivity levels. \nOur Online Training courses are led by a Micromine Training and Support Consultants and delivered through the online platform Microsoft Teams. \nYou must have an active Micromine licence to attend the online training courses and complete the exercises provided. \nPlease note: This course will be conducted in the Bahasa Indonesia language \n  \n Micromine Implicit Modelling Course Outline \n  \nCourse Times (+7 GMT Jakarta Time)\nDay 1 \n09:00 WIB – 17:00 WIB – Implicit Modelling \n  \nBook this course\n \n 
URL:https://www.micromine.kz/event/implicit-modelling-online-australia-december-3-2020-2/
LOCATION:MICROMINE Indonesia\, Pondok Indah Office Tower 1 4th Floor suite 406 Jln. Sultan Iskandar Muda V TA\, Pondok Pinang\, Jakarta\, Kebayoran Lama\, 12310\, Indonesia
CATEGORIES:Micromine Training
ATTACH;FMTTYPE=image/png:https://www.micromine.kz/wp-content/uploads/2016/01/implicitmodelling-training.jpg
END:VEVENT
END:VCALENDAR