BEGIN:VCALENDAR
VERSION:2.0
PRODID:-//Micromine - ECPv5.8.1//NONSGML v1.0//EN
CALSCALE:GREGORIAN
METHOD:PUBLISH
X-WR-CALNAME:Micromine
X-ORIGINAL-URL:https://www.micromine.kz
X-WR-CALDESC:Events for Micromine
BEGIN:VTIMEZONE
TZID:UTC
BEGIN:STANDARD
TZOFFSETFROM:+0000
TZOFFSETTO:+0000
TZNAME:UTC
DTSTART:20170101T000000
END:STANDARD
END:VTIMEZONE
BEGIN:VEVENT
DTSTART;VALUE=DATE:20170216
DTEND;VALUE=DATE:20170217
DTSTAMP:20260424T134722
CREATED:20160113T202024Z
LAST-MODIFIED:20161121T020758Z
UID:3942-1487203200-1487289599@www.micromine.kz
SUMMARY:Implicit Modelling - Perth
DESCRIPTION:Micromine’s one day Implicit Modelling course provides users with the skills required to derive the maximum benefit from their Micromine solution. The skills acquired in this course will enable trainees to use all of the functions that are relevant to their needs\, maximising their individual productivity levels. \n Micromine Implicit Modelling Course Outline \n  \n[ult_button buttonlink=”mailto:marketing@micromine.com?subject=Micromine Training Perth – 16th February 2017 – Implicit Modelling” buttonsize=”large” color=”#ffffff” hovercolor=”#ffffff” backgroundcolor=”#387c2b” hoverbgcolor=”#98bd05″ icon=”” rel=””]Book This Course[/ult_button] \n  \n 
URL:https://www.micromine.kz/event/implicit-modelling-february-2017/
LOCATION:Perth – MICROMINE Head Office\, Level 2\, 174 Hampden Road\, Nedlands\, WA\, 6009\, Australia
CATEGORIES:Micromine Training
ATTACH;FMTTYPE=image/png:https://www.micromine.kz/wp-content/uploads/2016/01/implicitmodelling-training.jpg
END:VEVENT
END:VCALENDAR