BEGIN:VCALENDAR
VERSION:2.0
PRODID:-//Micromine - ECPv5.8.1//NONSGML v1.0//EN
CALSCALE:GREGORIAN
METHOD:PUBLISH
X-WR-CALNAME:Micromine
X-ORIGINAL-URL:https://www.micromine.kz
X-WR-CALDESC:Events for Micromine
BEGIN:VTIMEZONE
TZID:UTC
BEGIN:STANDARD
TZOFFSETFROM:+0000
TZOFFSETTO:+0000
TZNAME:UTC
DTSTART:20170101T000000
END:STANDARD
END:VTIMEZONE
BEGIN:VEVENT
DTSTART;VALUE=DATE:20170323
DTEND;VALUE=DATE:20170324
DTSTAMP:20260423T222258
CREATED:20160113T202024Z
LAST-MODIFIED:20161107T090023Z
UID:3957-1490227200-1490313599@www.micromine.kz
SUMMARY:Geostatistics & Kriging - Perth
DESCRIPTION:The advanced courses are for experienced users who want to achieve ‘best practice’ use of Micromine. The skills acquired in these courses will enable trainees to use all of the functions that are relevant to their needs\, maximising their individual productivity levels. \n Micromine Geostatistics & Kriging Course Outline \n  \n[ult_button buttonlink=”mailto:marketing@micromine.com?subject=Micromine Training Perth – 23rd March 2017 – Geostats and Kriging” buttonsize=”large” color=”#ffffff” hovercolor=”#ffffff” backgroundcolor=”#387c2b” hoverbgcolor=”#98bd05″ icon=”” rel=””]Book This Course[/ult_button] \n  \n 
URL:https://www.micromine.kz/event/geostatistics-kriging-march-2017/
LOCATION:Perth – MICROMINE Head Office\, Level 2\, 174 Hampden Road\, Nedlands\, WA\, 6009\, Australia
CATEGORIES:Micromine Training
ATTACH;FMTTYPE=image/jpeg:https://www.micromine.kz/wp-content/uploads/2016/01/Geostatistics-Kriging-training.jpg
END:VEVENT
END:VCALENDAR