BEGIN:VCALENDAR
VERSION:2.0
PRODID:-//Micromine - ECPv5.8.1//NONSGML v1.0//EN
CALSCALE:GREGORIAN
METHOD:PUBLISH
X-WR-CALNAME:Micromine
X-ORIGINAL-URL:https://www.micromine.kz
X-WR-CALDESC:Events for Micromine
BEGIN:VTIMEZONE
TZID:Africa/Johannesburg
BEGIN:STANDARD
TZOFFSETFROM:+0200
TZOFFSETTO:+0200
TZNAME:SAST
DTSTART:20170101T000000
END:STANDARD
END:VTIMEZONE
BEGIN:VEVENT
DTSTART;TZID=Africa/Johannesburg:20170329T090000
DTEND;TZID=Africa/Johannesburg:20170329T120000
DTSTAMP:20260423T155825
CREATED:20160113T003138Z
LAST-MODIFIED:20170303T025628Z
UID:4554-1490778000-1490788800@www.micromine.kz
SUMMARY:Geobank 2017 - What's New Training - Johannesburg
DESCRIPTION:MICROMINE is pleased to announce the release of Geobank 2017\, the latest version of our industry leading\, secure and flexible data management solution. \nThe What’s New Training is available to all current Annual Licence clients and is free of charge. The sessions are held at MICROMINE Johannesburg\, South Africa or online via Skype. \nIf you would like to attend in person or online please contact us using the link below. Once you are booked on the course we will provide you with the necessary details for the session and the Skype meeting link for those attending online. \n  \n[ult_button buttonlink=”mailto:marketing@micromine.com?subject=Geobank What’s New Training – Johannesburg – 29th March 2017″ buttonsize=”large” color=”#ffffff” hovercolor=”#ffffff” backgroundcolor=”#0089bd” hoverbgcolor=”#46c7fb” icon=”” rel=””]Contact Us About This Course[/ult_button] \n  \n 
URL:https://www.micromine.kz/event/geobank2017-whats-new-johannesburg-2017-3/
LOCATION:Johannesburg\, Ground Floor\, Fulham House\, Hampton Park\, 20 Georgian Crescent East\, Bryanston\, South Africa
CATEGORIES:Geobank Training
ATTACH;FMTTYPE=image/png:https://www.micromine.kz/wp-content/uploads/2016/01/gb-whatsnewtraining.jpg
END:VEVENT
END:VCALENDAR