BEGIN:VCALENDAR
VERSION:2.0
PRODID:-//Micromine - ECPv5.8.1//NONSGML v1.0//EN
CALSCALE:GREGORIAN
METHOD:PUBLISH
X-WR-CALNAME:Micromine
X-ORIGINAL-URL:https://www.micromine.kz
X-WR-CALDESC:Events for Micromine
BEGIN:VTIMEZONE
TZID:Asia/Shanghai
BEGIN:STANDARD
TZOFFSETFROM:+0800
TZOFFSETTO:+0800
TZNAME:CST
DTSTART:20170101T000000
END:STANDARD
END:VTIMEZONE
BEGIN:VEVENT
DTSTART;TZID=Asia/Shanghai:20170202T090000
DTEND;TZID=Asia/Shanghai:20170202T120000
DTSTAMP:20260424T211635
CREATED:20160113T003138Z
LAST-MODIFIED:20170124T012036Z
UID:4549-1486026000-1486036800@www.micromine.kz
SUMMARY:Geobank 2017 - What's New Training
DESCRIPTION:MICROMINE is pleased to announce the release of Geobank 2017\, the latest version of our industry leading\, secure and flexible data management solution. \nThe What’s New Training is available to all current Annual Licence clients and is free of charge. The sessions are held at MICROMINE HQ in Perth\, Western Australia or online via Skype. The session will be hosted by Derek Vincent\, Geobank Operations Manager. \nIf you would like to attend in person or online please contact us using the link below. Once you are booked on the course we will provide you with the necessary details for the session in your region and the Skype meeting link for those attending online. \nThere will also be sessions held in our Johannesburg\, South Africa and Denver\, Colorado offices in March 2017\, click on the respective locations to see the event page. \n  \n[ult_button buttonlink=”mailto:marketing@micromine.com?subject=Geobank What’s New Training – 2nd February 2017″ buttonsize=”large” color=”#ffffff” hovercolor=”#ffffff” backgroundcolor=”#0089bd” hoverbgcolor=”#46c7fb” icon=”” rel=””]Contact Us About This Course[/ult_button] \n  \n 
URL:https://www.micromine.kz/event/geobank2017-whats-new-2017-1/
LOCATION:Perth – MICROMINE Head Office\, Level 2\, 174 Hampden Road\, Nedlands\, WA\, 6009\, Australia
CATEGORIES:Geobank Training
ATTACH;FMTTYPE=image/png:https://www.micromine.kz/wp-content/uploads/2016/01/gb-whatsnewtraining.jpg
END:VEVENT
END:VCALENDAR