BEGIN:VCALENDAR
VERSION:2.0
PRODID:-//Micromine - ECPv5.8.1//NONSGML v1.0//EN
CALSCALE:GREGORIAN
METHOD:PUBLISH
X-WR-CALNAME:Micromine
X-ORIGINAL-URL:https://www.micromine.kz
X-WR-CALDESC:Events for Micromine
BEGIN:VTIMEZONE
TZID:Asia/Shanghai
BEGIN:STANDARD
TZOFFSETFROM:+0800
TZOFFSETTO:+0800
TZNAME:CST
DTSTART:20170101T000000
END:STANDARD
END:VTIMEZONE
BEGIN:VEVENT
DTSTART;VALUE=DATE:20170907
DTEND;VALUE=DATE:20170908
DTSTAMP:20260420T125758
CREATED:20160113T003138Z
LAST-MODIFIED:20161110T083201Z
UID:4098-1504742400-1504828799@www.micromine.kz
SUMMARY:Geobank Sample Tracker - Perth
DESCRIPTION:The Geobank Sample Tracker course is a Level 2 course. It is designed to provide participants with the skills required to use Geobank’s Sample Tracker module to manage sample data and XRF data\, work with laboratories and provide QAQC reporting. \n Geobank Sample Tracker Course Outline \n  \n[ult_button buttonlink=”mailto:marketing@micromine.com?subject=Geobank Training Perth – 7th September 2017 – Geobank Sample Tracker” buttonsize=”large” color=”#ffffff” hovercolor=”#ffffff” backgroundcolor=”#0089bd” hoverbgcolor=”#46c7fb” icon=”” rel=””]Book This Course[/ult_button] \n  \n 
URL:https://www.micromine.kz/event/geobank-sample-tracker-september-2017/
LOCATION:Perth – MICROMINE Head Office\, Level 2\, 174 Hampden Road\, Nedlands\, WA\, 6009\, Australia
CATEGORIES:Geobank Training
ATTACH;FMTTYPE=image/jpeg:https://www.micromine.kz/wp-content/uploads/2016/01/sample-tracker-training.jpg
END:VEVENT
END:VCALENDAR