BEGIN:VCALENDAR
VERSION:2.0
PRODID:-//Micromine - ECPv5.8.1//NONSGML v1.0//EN
CALSCALE:GREGORIAN
METHOD:PUBLISH
X-WR-CALNAME:Micromine
X-ORIGINAL-URL:https://www.micromine.kz
X-WR-CALDESC:Events for Micromine
BEGIN:VTIMEZONE
TZID:Australia/Perth
BEGIN:STANDARD
TZOFFSETFROM:+0800
TZOFFSETTO:+0800
TZNAME:AWST
DTSTART:20160101T000000
END:STANDARD
END:VTIMEZONE
BEGIN:VEVENT
DTSTART;TZID=Australia/Perth:20161117T140000
DTEND;TZID=Australia/Perth:20161117T180000
DTSTAMP:20260425T212207
CREATED:20161020T020957Z
LAST-MODIFIED:20161020T020957Z
UID:3661-1479391200-1479405600@www.micromine.kz
SUMMARY:Geobank 2017 Launch
DESCRIPTION:MICROMINE is proud to announce the latest version of our industry leading secure and flexible data management solution\, Geobank 2017 to be released on November 17th 2016. Book your spot at the Geobank 2017 launch event and see how Geobank 2017’s new features and benefits can assist your operation to secure your most important asset – your data. Following the launch event\, you are invited to stay for an afternoon sun-downer on the new roof top garden of CORE. \n  \nSchedule \n•   2:00pm – 3:30pm – Launch Event\n•   4:00pm – 6:00pm – Sundowner \n  \n[ult_button buttonlink=”https://www.eventbrite.com.au/e/geobank-2017-launch-tickets-28677562361″ buttonsize=”large” color=”#ffffff” hovercolor=”#ffffff” backgroundcolor=”#0081c6″ hoverbgcolor=”#00bce4″ icon=”” rel=””]Book now[/ult_button] \n  \nKey highlights \n•  New and improved Sample Tracker that brings a new user interface as well as batch loading\, lab-QAQC resolution\, file format detection\, improved interactivity and more.\n•  Excel lab files can now be imported by sample tracker.\n•  Various usability enhancements including adding new rows between existing in data views and alternating colours for rows in configuration manager.\n•  Numerous quality improvements with fixes to graphic report display\, issues with exported files\, and response speed and performance improvements.\n•  Addition of built-in tabs to add and edit Metadata for Sample Tracker and general lookups.\n•  Licencing enhancements including Crypkey licence transfer and network licence improvement.\n•  Graphic report logarithmic scales now have versatile display options and alignment or objects in the designed is significantly more intuitive.\n•  Web based help is now available globally.\n•  Support for Micromine 2016 .dat file format. \n  \nRelated links \n•  Learn more about Geobank on the Geobank product page\n•  Download the Geobank 2017 preview flyer\n•  See the Geobank system requirements\n \n 
URL:https://www.micromine.kz/event/geobank-2017-launch/
LOCATION:CORE Resources and Innovation Hub\, Ground Floor\, 191 St. George's Terace\, Perth\, Western Australia\, 6000\, Australia
CATEGORIES:Product Launch Events
ATTACH;FMTTYPE=image/jpeg:https://www.micromine.kz/wp-content/uploads/2016/10/Geobank_HeroImage_small-GB2017.jpg
END:VEVENT
END:VCALENDAR