BEGIN:VCALENDAR
VERSION:2.0
PRODID:-//Micromine - ECPv5.8.1//NONSGML v1.0//EN
CALSCALE:GREGORIAN
METHOD:PUBLISH
X-WR-CALNAME:Micromine
X-ORIGINAL-URL:https://www.micromine.kz
X-WR-CALDESC:Events for Micromine
BEGIN:VTIMEZONE
TZID:Atlantic/Reykjavik
BEGIN:STANDARD
TZOFFSETFROM:+0000
TZOFFSETTO:+0000
TZNAME:GMT
DTSTART:20200101T000000
END:STANDARD
END:VTIMEZONE
BEGIN:VEVENT
DTSTART;TZID=Atlantic/Reykjavik:20201130T070000
DTEND;TZID=Atlantic/Reykjavik:20201201T150000
DTSTAMP:20260420T144124
CREATED:20201120T090040Z
LAST-MODIFIED:20201125T025527Z
UID:17882-1606719600-1606834800@www.micromine.kz
SUMMARY:FULL - Exploration - Online       Europe\, Africa\, Middle East & West Asia
DESCRIPTION:We’ve opened up Micromine Online Training so you can learn from wherever you are in the world. \nMicromine’s two day Exploration course provides users with the skills required to derive the maximum benefit from their Micromine solution. The skills acquired in this course will enable trainees to use all of the functions that are relevant to their needs and maximising their individual productivity levels. \nOur Online Training courses are led by a Micromine Training and Support Consultants and delivered through the online platform Microsoft Teams.  The training will run for approximately three hours in duration and exercises will be provided to so you can put your learning’s into practice after the course. \n Micromine Exploration Course Outline \n GMT Time Converter \n  \nCourse Times\nDay 1 \n07:00 GMT – 10:00 GMT – Exploration\n10:00 GMT – 14:00 GMT – Free time to work on course material\n14:00 GMT – 15:00 GMT – Questions and Answer Session \nDay 2 \n07:00 GMT – 10:00 GMT – Exploration\n10:00 GMT – 14:00 GMT – Free time to work on course material\n14:00 GMT – 15:00 GMT – Questions and Answer Session \n  \nThis course is now full\nTake a look at the calendar for future training events. \n 
URL:https://www.micromine.kz/event/exploration-online-sa-november-30-2020/
LOCATION:MICROMINE Africa\, Ground Floor\, Fulham House\, Hampton Park\, 20 Georgian Crescent East\, Bryanston\, South Africa
CATEGORIES:Micromine Training
ATTACH;FMTTYPE=image/png:https://www.micromine.kz/wp-content/uploads/2016/01/exploration-training.jpg
END:VEVENT
END:VCALENDAR