BEGIN:VCALENDAR
VERSION:2.0
PRODID:-//Micromine - ECPv5.8.1//NONSGML v1.0//EN
CALSCALE:GREGORIAN
METHOD:PUBLISH
X-WR-CALNAME:Micromine
X-ORIGINAL-URL:https://www.micromine.kz
X-WR-CALDESC:Events for Micromine
BEGIN:VTIMEZONE
TZID:Asia/Jakarta
BEGIN:STANDARD
TZOFFSETFROM:+0700
TZOFFSETTO:+0700
TZNAME:WIB
DTSTART:20200101T000000
END:STANDARD
END:VTIMEZONE
BEGIN:VEVENT
DTSTART;TZID=Asia/Jakarta:20201020T090000
DTEND;TZID=Asia/Jakarta:20201021T170000
DTSTAMP:20260423T155240
CREATED:20200529T081146Z
LAST-MODIFIED:20200626T075821Z
UID:16798-1603184400-1603299600@www.micromine.kz
SUMMARY:Exploration - Online - Indonesia
DESCRIPTION:We’ve opened up Micromine Online Training so you can learn from wherever you are in the world. \nMicromine’s two day Exploration course provides users with the skills required to derive the maximum benefit from their Micromine solution. The skills acquired in this course will enable trainees to use all of the functions that are relevant to their needs and maximising their individual productivity levels. \n  \nWho can attend the free training course?\n\nYou must have an active Micromine licence to attend the course. This can be a subscription bundle or a perpetual licence that is under a current Annual Licence contract.\nThis course will be conducted in the Bahasa Indonesia language. Fluency in the language will be necessary to follow the trainers instructions.\n\n  \n Micromine Exploration Course Outline \n  \nCourse Times (+7 GMT Jakarta Time)\nDay 1 \n09:00 WIB – 17:00 WIB– Exploration \nDay 2 \n09:00 WIB – 17:00 WIB– Exploration \n  \nBook this course\n\nPlease note: To be eligible to attend this course you must have a current Micromine licence and speak Bahasa Indonesian. \n 
URL:https://www.micromine.kz/event/exploration-online-indo-october-20-2020/
LOCATION:MICROMINE Indonesia\, Pondok Indah Office Tower 1 4th Floor suite 406 Jln. Sultan Iskandar Muda V TA\, Pondok Pinang\, Jakarta\, Kebayoran Lama\, 12310\, Indonesia
CATEGORIES:Micromine Training
ATTACH;FMTTYPE=image/png:https://www.micromine.kz/wp-content/uploads/2016/01/exploration-training.jpg
END:VEVENT
END:VCALENDAR