BEGIN:VCALENDAR
VERSION:2.0
PRODID:-//Micromine - ECPv5.8.1//NONSGML v1.0//EN
CALSCALE:GREGORIAN
METHOD:PUBLISH
X-WR-CALNAME:Micromine
X-ORIGINAL-URL:https://www.micromine.kz
X-WR-CALDESC:Events for Micromine
BEGIN:VTIMEZONE
TZID:Australia/Perth
BEGIN:STANDARD
TZOFFSETFROM:+0800
TZOFFSETTO:+0800
TZNAME:AWST
DTSTART:20170101T000000
END:STANDARD
END:VTIMEZONE
BEGIN:VEVENT
DTSTART;VALUE=DATE:20170123
DTEND;VALUE=DATE:20170127
DTSTAMP:20260424T230419
CREATED:20161130T055751Z
LAST-MODIFIED:20170119T070435Z
UID:3523-1485129600-1485475199@www.micromine.kz
SUMMARY:AMEBC Roundup 2017 - Booth #322
DESCRIPTION:Join the MICROMINE North American team at the inaugural “Groundup Networking Session” on Monday 23rd January. Register here. \nMICROMINE will be attending this years AMEBC 2017 in Vancouver\, British Columbia\, Canada from 23rd – 26th January 2017 at booth #322. \nThe team will showcase our entire suite of solutions including Geobank 2017\, the latest version of our leading data management solution\, along with Micromine 2016 which was released in May 2016 and Pitram\, the world’s leading underground fleet management and mine control solution. \nMICROMINE’s Product Specialists will deliver software demonstrations at the MICROMINE booth throughout the event\, and will be available to discuss how our applications\, which cover the entire mining process\, can help delegates’ operations to meet business objectives. \nClick on the button below to contact us and arrange a meeting with a MICROMINE representative at AMEBC 2017 booth #322. \n[ult_button buttonlink=”http://www.micromine.com/product-enquiry/” buttonsize=”large” color=”#ffffff” hovercolor=”#ffffff” backgroundcolor=”#5f6062″ hoverbgcolor=”#d06f1a” icon=”” rel=””]Enquiry[/ult_button] \n  \n\nPress Release – MICROMINE to showcase software solutions at AMEBC including the newly released Geobank 2017\nVisit the AMEBC 2017 website for more information about the event\nSee the AMEBC 2017 Infographic
URL:https://www.micromine.kz/event/amebc-2017/
LOCATION:Canada Place\, 999 Canada Place\, Vancouver\, BC\, V6C 3T4\, Canada
CATEGORIES:Conferences & Expos
ATTACH;FMTTYPE=image/png:https://www.micromine.kz/wp-content/uploads/2017/01/amebc-new-logo-e1484809002773.png
END:VEVENT
END:VCALENDAR