BEGIN:VCALENDAR
VERSION:2.0
PRODID:-//Micromine - ECPv5.8.1//NONSGML v1.0//EN
CALSCALE:GREGORIAN
METHOD:PUBLISH
X-WR-CALNAME:Micromine
X-ORIGINAL-URL:https://www.micromine.kz
X-WR-CALDESC:Events for Micromine
BEGIN:VTIMEZONE
TZID:UTC
BEGIN:STANDARD
TZOFFSETFROM:+0000
TZOFFSETTO:+0000
TZNAME:UTC
DTSTART:20170101T000000
END:STANDARD
END:VTIMEZONE
BEGIN:VEVENT
DTSTART;VALUE=DATE:20170507
DTEND;VALUE=DATE:20170511
DTSTAMP:20260423T000051
CREATED:20161130T060010Z
LAST-MODIFIED:20170427T021919Z
UID:5350-1494115200-1494460799@www.micromine.kz
SUMMARY:2017 Haulage & Loading Exhibition and Conference - Phoenix\, AZ\, USA
DESCRIPTION:MICROMINE USA will be attending the 2017 Haulage & Loading Exhibition and Conference. The MICROMINE North America team will be attending the event as delegates along with Pitram Product Strategy Manager\, Gareth Dean who will be presenting “Turning Data in Dollars – Investing in modern mining technology to assist the mining operations (Erdenet Mining Coporation Case).” \nReduce mining costs and improve efficiency to mine complex ore bodies has been a challenge for EMC. They decided to face it through the introduction of technology\, that also would strengthen the technology skills of their employees. With the implementation of the full suite of MICROMINE products with the forward view of complete integration\, EMC is moving forward to fulfil their needs. \n  \n\n \nJoin us for a webinar on May 4th to get a first look at Pitram Connect. \n\n  \nThe MICROMINE presentation takes place on Tuesday\, May 9th during Session III: Fleet Management: \n\nInnovative information Mining: Fleet Optimization\n\nBy Lia Walker\, Quality Leader\, Freeport-McMoRan\n\n\nHow Big is Too Big?\n\nBy Craig Griffiths\, Manager Customer Solutions\, Volvo Construction Equipment\n\n\nTurning Erdenet’s Data into Dollars\n\nBy Gareth Dean\, Strategic Product Manager\, Pitram\nMore companies are investing in modern technology to assist the mining operations This presentation is base on a case study involving the Erdenet Mining Corp. (EMC). Finding ways to reduce mining costs and improve efficiency while working complex ore bodies has been a challenge for EMC\, a large Asian copper miner. They decided to face it through the introduction of technology\, that also would strengthen the technology skills of their employees. With the implementation of the full suite of Micromine products with the forward view of complete integration\, EMC is moving forward to fulfil their needs.\n\n\nAdopting a People\, Process and Technology Strategy to Drive Sustainable Workforce Optimization\n\nBy Adam Norris\, Regional Manager – North America\, Immersive Technologies\n\n\n\n  \nContact us using the link below to organise a demonstration and for further details on the presentation: \n[ult_button buttonlink=”https://www.micromine.kz/contact/” buttonsize=”large” color=”#ffffff” hovercolor=”#ffffff” backgroundcolor=”#5f6062″ hoverbgcolor=”#b06e0e” icon=”” rel=””]Contact Us[/ult_button] \n  \nUseful Links:\n\n2017 Haulage & Loading Exhibition and Conference website\nFull Technical Program for the event
URL:https://www.micromine.kz/event/2017-haulage-and-loading-exhibition-and-conference/
LOCATION:Wigwam Resort\, 300 Wigwam Blvd.\, Litchfield Park\, AZ\, 85340\, United States
CATEGORIES:Conferences & Expos
ATTACH;FMTTYPE=image/png:https://www.micromine.kz/wp-content/uploads/2016/11/haulage-and-loading-2017-header-web.png
END:VEVENT
END:VCALENDAR